BEGIN:VCALENDAR
VERSION:2.0
PRODID:-//chikkutakku.com//RDFCal 1.0//EN
X-WR-CALDESC:GoogleカレンダーやiCalendar形式情報を共有シェ
 アしましょう。近所のイベントから全国のイベントま
 で今日のイベント検索やスケジュールを決めるならち
 っくたっく
X-WR-CALNAME:ちっくたっく
X-WR-TIMEZONE:UTC
BEGIN:VEVENT
SUMMARY:【注】DEATH NOTE #20 姑息 / #21 活躍 / #22 誘導 / #23 狂
 騒 / #24 復活 / #25 沈黙 / #26 再生 / #27 誘拐 / #28 焦燥
DTSTART;VALUE=DATE-TIME:20260422T040000Z
DTEND;VALUE=DATE-TIME:20260422T083000Z
UID:239256328811
DESCRIPTION: / #20 姑息 / #21 活躍 / #22 誘導 / #23 狂騒 / #24 復
 活 / #25 沈黙 / #26 再生 / #27 誘拐 / #28 焦燥 / https://abema.tv
 /channels/00s-anime-1/slots/EvABLuxZA2m24X リピート放送は 22:00～ 
 https://abema.tv/channels/00s-anime-1/slots/Ah77nLJoLzWuHR (無料TS1週
 間) https://prtimes.jp/main/html/rd/p/000002968.000064643.html
LOCATION:なつかしアニメ00's
END:VEVENT
END:VCALENDAR
