BEGIN:VCALENDAR
VERSION:2.0
PRODID:-//chikkutakku.com//RDFCal 1.0//EN
X-WR-CALDESC:GoogleカレンダーやiCalendar形式情報を共有シェ
 アしましょう。近所のイベントから全国のイベントま
 で今日のイベント検索やスケジュールを決めるならち
 っくたっく
X-WR-CALNAME:ちっくたっく
X-WR-TIMEZONE:UTC
BEGIN:VEVENT
SUMMARY:論文討論（佳君）
DTSTART;VALUE=DATE-TIME:20260422T060000Z
DTEND;VALUE=DATE-TIME:20260422T080000Z
UID:239458987135
DESCRIPTION:論文討論（佳君）
LOCATION:coffee room
END:VEVENT
END:VCALENDAR
