BEGIN:VCALENDAR
VERSION:2.0
PRODID:-//chikkutakku.com//RDFCal 1.0//EN
X-WR-CALDESC:GoogleカレンダーやiCalendar形式情報を共有シェ
 アしましょう。近所のイベントから全国のイベントま
 で今日のイベント検索やスケジュールを決めるならち
 っくたっく
X-WR-CALNAME:ちっくたっく
X-WR-TIMEZONE:UTC
BEGIN:VEVENT
SUMMARY:駆逐艦嵐：進水日(1940)
DTSTART;VALUE=DATE-TIME:20260421T150000Z
DTEND;VALUE=DATE-TIME:20260422T150000Z
UID:239851566365
DESCRIPTION:　仮称第112号艦として舞鶴海軍工廠で1939年（
 昭和14年）5月4日起工[4]。舞鶴海軍工廠で建造された陽
 炎型は嵐以外に4隻（陽炎、親潮、天津風、野分）が存
 在する。1940年（昭和15年）2月23日、陽炎型17番艦萩風と
 同日附で命名された[1]。同年4月22日進水[4]。登録上は
 舞鶴工廠で建造された姉妹艦野分が陽炎型15番艦で嵐が
 16番艦だが[3]、起工・進水・竣工のいずれも野分より嵐
 の方が早い[5]。 同年9月16日附で朝潮型駆逐艦2番艦大潮
 駆逐艦長渡邉保正中佐は嵐の艤装員長に任命された[6]
 。同時期、舞鶴海軍工廠に嵐艤装員事務所を設置[7]。
 渡邉は11月25日附で嵐初代駆逐艦長に任命された[8]。同
 時期、嵐艤装員事務所を撤去[9]。\n　嵐は1941年（昭和16
 年）1月27日に竣工した[4]。横須賀鎮守府籍となり、た
 だちに横須賀へ回航された[10]。 
LOCATION:
END:VEVENT
END:VCALENDAR
