BEGIN:VCALENDAR
VERSION:2.0
PRODID:-//chikkutakku.com//RDFCal 1.0//EN
X-WR-CALDESC:GoogleカレンダーやiCalendar形式情報を共有シェ
 アしましょう。近所のイベントから全国のイベントま
 で今日のイベント検索やスケジュールを決めるならち
 っくたっく
X-WR-CALNAME:ちっくたっく
X-WR-TIMEZONE:UTC
BEGIN:VEVENT
SUMMARY:一畳間まんきつ暮らし！ #2 「ヘッジホッグ閉店!?
  経営を立て直せ！」
DTSTART;VALUE=DATE-TIME:20260421T140000Z
DTEND;VALUE=DATE-TIME:20260421T143000Z
UID:240031234818
DESCRIPTION:2 / ヘッジホッグ閉店!? 経営を立て直せ！ / 
LOCATION:AT-X
END:VEVENT
END:VCALENDAR
