BEGIN:VCALENDAR
VERSION:2.0
PRODID:-//chikkutakku.com//RDFCal 1.0//EN
X-WR-CALDESC:GoogleカレンダーやiCalendar形式情報を共有シェ
 アしましょう。近所のイベントから全国のイベントま
 で今日のイベント検索やスケジュールを決めるならち
 っくたっく
X-WR-CALNAME:ちっくたっく
X-WR-TIMEZONE:UTC
BEGIN:VEVENT
SUMMARY:【注】ゆるキャン△ SEASON3 #1 次、どこ行こうか / 
 #2 プチキャンと庭キャン / #3 出発！吊り橋の国 / #4 畑
 薙アタック!!地獄のデスロード / #5 焚き火と牛まつり / 
 #6 それじゃあまた、いつか / #7 ホラかホンマか回想キ
 ャンプ / #8 めしテロはじまるよ!! / #9 ツーリングと桜め
 ぐり / #10 ちくわと電車と千明のソロキャン / #11 思い出
 の風景 / #12 4月2日、花見キャンプ
DTSTART;VALUE=DATE-TIME:20260425T110000Z
DTEND;VALUE=DATE-TIME:20260425T173000Z
UID:240717551266
DESCRIPTION: / #1 次、どこ行こうか / #2 プチキャンと庭キ
 ャン / #3 出発！吊り橋の国 / #4 畑薙アタック!!地獄のデ
 スロード / #5 焚き火と牛まつり / #6 それじゃあまた、
 いつか / #7 ホラかホンマか回想キャンプ / #8 めしテロ
 はじまるよ!! / #9 ツーリングと桜めぐり / #10 ちくわと
 電車と千明のソロキャン / #11 思い出の風景 / #12 4月2日
 、花見キャンプ / ＋OVA https://abema.tv/channels/dailylife-anime/s
 lots/AkN7WR1gZ2FGT1 リピート放送は 4/26(日) 7:00～ https://abema.
 tv/channels/dailylife-anime/slots/AkN7X1XXeaeD4j 、4/26(日) 13:30～ htt
 ps://abema.tv/channels/dailylife-anime/slots/AkN7X1tShstsEo (無料TS1週
 間)
LOCATION:日常青春アニメ
END:VEVENT
END:VCALENDAR
