BEGIN:VCALENDAR
VERSION:2.0
PRODID:-//chikkutakku.com//RDFCal 1.0//EN
X-WR-CALDESC:GoogleカレンダーやiCalendar形式情報を共有シェ
 アしましょう。近所のイベントから全国のイベントま
 で今日のイベント検索やスケジュールを決めるならち
 っくたっく
X-WR-CALNAME:ちっくたっく
X-WR-TIMEZONE:UTC
BEGIN:VEVENT
SUMMARY:Riftbound - Unleased Pre-Rift - $30
DTSTART;VALUE=DATE-TIME:20260506T223000Z
DTEND;VALUE=DATE-TIME:20260507T020000Z
UID:241198678259
DESCRIPTION:Join us for a Pre-Rift event for Riftbound's newest set\, Unle
 ased!\n \nEntry for this event is $30 and includes a Pre-Rift kit to buil
 d a deck from as well as 2 packs for the prize pool with all players recei
 ving at least one pack for prizes.
LOCATION:
END:VEVENT
END:VCALENDAR
