BEGIN:VCALENDAR
VERSION:2.0
PRODID:-//chikkutakku.com//RDFCal 1.0//EN
X-WR-CALDESC:GoogleカレンダーやiCalendar形式情報を共有シェ
 アしましょう。近所のイベントから全国のイベントま
 で今日のイベント検索やスケジュールを決めるならち
 っくたっく
X-WR-CALNAME:ちっくたっく
X-WR-TIMEZONE:UTC
BEGIN:VEVENT
SUMMARY:魔王を倒したおじさん冒険者、ダンジョン育てま
 す（仮）
DTSTART;VALUE=DATE:20260521
DTEND;VALUE=DATE:20260522
UID:241417685036
DESCRIPTION:2026-05-22魔王を倒したおじさん冒険者、ダンジ
 ョン育てます（仮）白沢戌亥/柴乃櫂人スターツ出版
LOCATION:
END:VEVENT
END:VCALENDAR
