BEGIN:VCALENDAR
VERSION:2.0
PRODID:-//chikkutakku.com//RDFCal 1.0//EN
X-WR-CALDESC:GoogleカレンダーやiCalendar形式情報を共有シェ
 アしましょう。近所のイベントから全国のイベントま
 で今日のイベント検索やスケジュールを決めるならち
 っくたっく
X-WR-CALNAME:ちっくたっく
X-WR-TIMEZONE:UTC
BEGIN:VEVENT
SUMMARY:Funeral - White Lady
DTSTART;VALUE=DATE-TIME:20260430T140000Z
DTEND;VALUE=DATE-TIME:20260501T140000Z
UID:241580248674
DESCRIPTION:Client Name: Kath Webb\nNotes:\nHi Kez\,\n \nThanks for taking
  this booking.\nDetails as follows:\n \nDate                  Friday 01/05
 /2026\nTime                  10am\nLocation          White Lady Chapel May
 field\nDuration       The service is currently booked as a standard servic
 e (30 minutes). Please let me know if the family are likely to need more t
 ime.\n \nDeceased:      Dianne Gayle Picken\nBorn:                 18/11/1
 950\nDied:                 22/04/2026 – At her home\nAge:               
      75 years old    \nMarital:              Widow – married Tom Picken 
 at age 29\, previously married to David Clark who she had her children wit
 h. \nNOK:                   5 children\n                             Scott
 \, Tammy\, Rodney\, Wayne and Jeannie\n \nYour contact:    Chris Rowen (Sc
 ott’s husband)\nPhone:               0412 028 844\nAddress:           1/
 86 Silsoe St\, Mayfield 2304 (this is Dianne’s home\, where Chris & Scot
 t are currently staying)\n \nThe family would also like 50 x OOS booklets\
 , please.\n \nThe following has already been decided by the family – the
  coffin will be in place at the front of the chapel / floral tribute / pho
 to tribute (Chris is creating this) / family will carry at waist to hearse
  at closing.\n \nFamily want to focus on the life of Dianne rather than th
 e sadness of her passing.\n \nI’ve let Chris know that you will reach ou
 t.\n \nPlease call me if you have any questions.\n \nKind regards\,
LOCATION:
END:VEVENT
END:VCALENDAR
