BEGIN:VCALENDAR
VERSION:2.0
PRODID:-//chikkutakku.com//RDFCal 1.0//EN
X-WR-CALDESC:GoogleカレンダーやiCalendar形式情報を共有シェ
 アしましょう。近所のイベントから全国のイベントま
 で今日のイベント検索やスケジュールを決めるならち
 っくたっく
X-WR-CALNAME:ちっくたっく
X-WR-TIMEZONE:UTC
BEGIN:VEVENT
SUMMARY:HOLD THE SKY(as TOTO) ＆ 御達者倶楽部(as KANSAS) LIVE
DTSTART;VALUE=DATE:20260503
DTEND;VALUE=DATE:20260504
UID:241602768007
DESCRIPTION:OPEN 18:30  START 19:00  CHARGE 2500円
LOCATION:
END:VEVENT
END:VCALENDAR
