BEGIN:VCALENDAR
VERSION:2.0
PRODID:-//chikkutakku.com//RDFCal 1.0//EN
X-WR-CALDESC:GoogleカレンダーやiCalendar形式情報を共有シェ
 アしましょう。近所のイベントから全国のイベントま
 で今日のイベント検索やスケジュールを決めるならち
 っくたっく
X-WR-CALNAME:ちっくたっく
X-WR-TIMEZONE:UTC
BEGIN:VEVENT
SUMMARY:NSW Basketball All Schools U16s Tournament | Tamworth Dome | A Gam
 brill
DTSTART;VALUE=DATE-TIME:20260504T220000Z
DTEND;VALUE=DATE-TIME:20260505T050000Z
UID:241718322147
DESCRIPTION:NSW Basketball All Schools U16s Tournament | Tamworth Dome | A
  Gambrill
LOCATION:
END:VEVENT
END:VCALENDAR
