BEGIN:VCALENDAR
VERSION:2.0
PRODID:-//chikkutakku.com//RDFCal 1.0//EN
X-WR-CALDESC:GoogleカレンダーやiCalendar形式情報を共有シェ
 アしましょう。近所のイベントから全国のイベントま
 で今日のイベント検索やスケジュールを決めるならち
 っくたっく
X-WR-CALNAME:ちっくたっく
X-WR-TIMEZONE:UTC
BEGIN:VEVENT
SUMMARY:高知新港で豪華客船お見送り演奏
DTSTART;VALUE=DATE-TIME:20260502T090000Z
DTEND;VALUE=DATE-TIME:20260502T100000Z
UID:241751341606
DESCRIPTION:高知新港で豪華客船のお見送り演奏をします
 。\n18時〜19時の間に15分ほど演奏、19:00出港\n（※時間
 が変わることがあります。）
LOCATION:高知新港
END:VEVENT
END:VCALENDAR
