BEGIN:VCALENDAR
VERSION:2.0
PRODID:-//chikkutakku.com//RDFCal 1.0//EN
X-WR-CALDESC:GoogleカレンダーやiCalendar形式情報を共有シェ
 アしましょう。近所のイベントから全国のイベントま
 で今日のイベント検索やスケジュールを決めるならち
 っくたっく
X-WR-CALNAME:ちっくたっく
X-WR-TIMEZONE:UTC
BEGIN:VEVENT
SUMMARY:チーム練習(福祉会館練習)
DTSTART;VALUE=DATE-TIME:20260424T150000Z
DTEND;VALUE=DATE-TIME:20260522T150000Z
UID:242680019466
DESCRIPTION:チーム練習(福祉会館練習)
LOCATION:新潟市総合福祉会館\, 日本、〒950-0909 新潟県新
 潟市中央区八千代１丁目３−１
END:VEVENT
END:VCALENDAR
