BEGIN:VCALENDAR
VERSION:2.0
PRODID:-//chikkutakku.com//RDFCal 1.0//EN
X-WR-CALDESC:GoogleカレンダーやiCalendar形式情報を共有シェ
 アしましょう。近所のイベントから全国のイベントま
 で今日のイベント検索やスケジュールを決めるならち
 っくたっく
X-WR-CALNAME:ちっくたっく
X-WR-TIMEZONE:UTC
BEGIN:VEVENT
SUMMARY:長崎県時津町【イオン de ミニフェス】 🆓
DTSTART;VALUE=DATE:20260508
DTEND;VALUE=DATE:20260509
UID:242700675422
DESCRIPTION:\n【イオン de ミニフェス】 \n📅5/9(土) \n📍
 長崎県・イオン時津店 \n🎙MilkShake（ミルクセーキ）出
 演①13:30②16:00 \n 🆓観覧無料 \n👤①②ともに終演後
 物販アリマス \n ✴高校生以下の方は、メンバーと写
 真サービス無料デス✨
LOCATION:
END:VEVENT
END:VCALENDAR
