BEGIN:VCALENDAR
VERSION:2.0
PRODID:-//chikkutakku.com//RDFCal 1.0//EN
X-WR-CALDESC:GoogleカレンダーやiCalendar形式情報を共有シェ
 アしましょう。近所のイベントから全国のイベントま
 で今日のイベント検索やスケジュールを決めるならち
 っくたっく
X-WR-CALNAME:ちっくたっく
X-WR-TIMEZONE:UTC
BEGIN:VEVENT
SUMMARY:【Android 対応】喫茶BARイベント【Dawn to Dusk】quest
 店
DTSTART;VALUE=DATE-TIME:20260428T170000Z
DTEND;VALUE=DATE-TIME:20260428T180000Z
UID:242762310140
DESCRIPTION:【イベント主催者】\n　mochigome_\n【イベント内
 容】\n　🌌宇宙×サイバー×喫茶BAR🌌\n《Dawn to Dusk》\n
 🚀月末はquest店営業日🚀\n\n地球で見た夜明けと黄昏が
 忘れられない姉弟が、\nひろーい宇宙のどこかにお店を
 開きました。\n\n地球時間午前2時から3時。\n人もお店も
 少なくて、ちょっぴり暇な時間。\n\nいつもは1人で過ご
 す時間に、\nおいしい飲み物と楽しいお喋りを！\n\nお
 喋り好きさん、初心者・無言勢さん、サイバー改変好
 きさんも、\nどうぞごゆっくり。\n\n星空の下、\n2人の
 店員があなたのご来店を待っています。\n\nどうか、宇
 宙カタツムリには気を付けて！\n【イベントジャンル】
 \n　店舗系イベント\, 初心者向けイベント\n【参加条件
 （モデル、人数制限など）】\n　・少人数向け（5～10人
 ）イベントですので、人数が多くなった場合接客が追
 い付かないことがあります。\n\n・アバターは40MBまでを
 目安にご来店ください。なお、他のお客様のご迷惑と
 なるようなギミックの使用はお控えください。\n\n・当
 イベントのキャストはRPを通して接客しますが、お客さ
 まのRPは任意です。いつも通りでも構いませんし、RPで
 答えていただいても構いません。\n\n・当店は地球環境
 向けに空気圧、温度、重力レベルを合わせてあります
 が、万が一体調を崩された場合は店員までお申し付け
 ください。\n\n・ご来店における健康被害、宇宙法につ
 いての事項や来店時での宇宙生物とのトラブルなど、
 その他一切について当店は責任を負いかねます。\n【参
 加方法】\n　グループ《Dawn to Dusk》https://vrc.group/DTD.2784
 　に参加。\n時間になったらグループインスタンスにjoi
 n！\n【備考】\n　
LOCATION:
END:VEVENT
END:VCALENDAR
