BEGIN:VCALENDAR
VERSION:2.0
PRODID:-//chikkutakku.com//RDFCal 1.0//EN
X-WR-CALDESC:GoogleカレンダーやiCalendar形式情報を共有シェ
 アしましょう。近所のイベントから全国のイベントま
 で今日のイベント検索やスケジュールを決めるならち
 っくたっく
X-WR-CALNAME:ちっくたっく
X-WR-TIMEZONE:UTC
BEGIN:VEVENT
SUMMARY:TUMO×Hypnotic Streams Kansai Tour Day 2 Osaka
DTSTART;VALUE=DATE:20260512
DTEND;VALUE=DATE:20260513
UID:242906380463
DESCRIPTION:open 19:00 / start 19:30\nLine up:\nHypnotic Streams\n・Fabio
  Rambelli from Italy / 笙\n・Dirk Stromberg from Singapore / instrument 
 builder\nTUMO\n・竹下勇馬 &#124\; Yuma Takeshita / mechanized instrum
 ents\n・石原雄治 &#124\; Yuji Ishihara / drums FX\nspacial guest:\n
 ・Juri Suzue / electronics\nFee:\n2500yen + 1 drink\n\nダークさんと
 フォビオさんのデュオ「Hypnotic Streams」の関西ギグ2日目
 \nこの日はそれぞれのユニットと最後に合奏予定です。
 \nよろしくお願い致します。
LOCATION:桜川Environment 0g【近畿】
END:VEVENT
END:VCALENDAR
