BEGIN:VCALENDAR
VERSION:2.0
PRODID:-//chikkutakku.com//RDFCal 1.0//EN
X-WR-CALDESC:GoogleカレンダーやiCalendar形式情報を共有シェ
 アしましょう。近所のイベントから全国のイベントま
 で今日のイベント検索やスケジュールを決めるならち
 っくたっく
X-WR-CALNAME:ちっくたっく
X-WR-TIMEZONE:UTC
BEGIN:VEVENT
SUMMARY:さようならアルルカン/白い少女たち 氷室冴子初
 期作品集
DTSTART;VALUE=DATE:20260519
DTEND;VALUE=DATE:20260520
UID:243657920741
DESCRIPTION:2026-05-20さようならアルルカン/白い少女たち 
 氷室冴子初期作品集氷室 冴子/青依 青集英社
LOCATION:
END:VEVENT
END:VCALENDAR
