BEGIN:VCALENDAR
VERSION:2.0
PRODID:-//chikkutakku.com//RDFCal 1.0//EN
X-WR-CALDESC:GoogleカレンダーやiCalendar形式情報を共有シェ
 アしましょう。近所のイベントから全国のイベントま
 で今日のイベント検索やスケジュールを決めるならち
 っくたっく
X-WR-CALNAME:ちっくたっく
X-WR-TIMEZONE:UTC
BEGIN:VEVENT
SUMMARY:【ギャラリーマルヒ企画展】「昭和40年代～鳥類
 図鑑の原画展～」　絵・石田武雄
DTSTART;VALUE=DATE-TIME:20260502T030000Z
DTEND;VALUE=DATE-TIME:20260510T090000Z
UID:243789221487
DESCRIPTION:「昭和40年代 ～鳥類図鑑の原画展～ 」　絵・
 石田武雄\n会期：2026年5月2日（土）〜 10日（日）\n時間
 ：12:00〜18:00\n会期中無休・入場無料\n会場：東京都文京
 区根津2-33-1　ギャラリーマルヒ\n\n昭和40年代の図鑑の
 ために描かれた、貴重な鳥の原画を展示・販売します
 。 水彩絵具が織りなす、繊細な羽の描写、みなぎる生
 命力。 図鑑の小さな枠には収まりきらなかった、絵画
 としての圧倒的な迫力がここにあります。時代を超え
 て受け継がれる、手描きの価値をご体感ください。\n動
 物画家　石田武雄　1950年頃より児童図書のイラストを
 描き始め1959年より動物図鑑などの挿絵の仕事に専念す
 るが、1971年日本画に転向。石田武の雅号で1973年第2回
 山種美術館賞展大賞受賞。以降、個展を中心に写実的
 な作品を発表し続けた。2010年没。\n《主催・企画》\nギ
 ャラリーマルヒ\n【お問い合わせ】\nMail MARUHI@konoike.org\n
 03-5832-9911\n共有:シェアTweetTumblr で共有いいね:いいね 読
 み込み中…window.twttr=(function(d\,s\,id){var js\,fjs=d.getElementsB
 yTagName(s)[0]\,t=window.twttr||{}\;if(d.getElementById(id))return t\;js=d
 .createElement(s)\;js.id=id\;js.src='https://platform.twitter.com/widgets.
 js'\;fjs.parentNode.insertBefore(js\,fjs)\;t._e=[]\;t.ready=function(f){t.
 _e.push(f)\;}\;return t\;}(document\,'script'\,'twitter-wjs'))\;
LOCATION:
END:VEVENT
END:VCALENDAR
