BEGIN:VCALENDAR
VERSION:2.0
PRODID:-//chikkutakku.com//RDFCal 1.0//EN
X-WR-CALDESC:GoogleカレンダーやiCalendar形式情報を共有シェ
 アしましょう。近所のイベントから全国のイベントま
 で今日のイベント検索やスケジュールを決めるならち
 っくたっく
X-WR-CALNAME:ちっくたっく
X-WR-TIMEZONE:UTC
BEGIN:VEVENT
SUMMARY:【Android 対応】人生セミナー第16回 ウェルビーイ
 ングについて 
DTSTART;VALUE=DATE-TIME:20260426T050000Z
DTEND;VALUE=DATE-TIME:20260426T070000Z
UID:243977234606
DESCRIPTION:【イベント主催者】\n　VRファシリテーション\
 n【イベント内容】\n　◇イベント内容\n人生セミナーは
 、人生100年時代を自分らしく生きるために、\n私の幸せ
 の姿やコミュニケーションスタイル、モチベーション
 、自信につながる強みとその発揮のあり方、私らしさ
 のための人生最期のあり方など、\n対話を通して自らと
 向き合い自らの理想の人生構築につなげる場です。\n\n
 ◇今回のイベントの趣旨\n「幸せのメカニズムを知り、
 自己の幸せをコントロールする」\n\n◇今回のイベント
 内容\n幸せについてウェルビーイングカードを使い少人
 数に分かれて対話します。\nVRC初心者からベテランまで
 ファシリテーターが話しやすいようサポートします。\n
 \n◇対話のルール\n・一人一人の考えを尊重しよう　\n
 ・自分自身が見たり聞いたり感じた事を話そう\n【イベ
 ントジャンル】\n　その他交流会\, 学術系イベント\, 初
 心者向けイベント\, 定期イベント\n【参加条件（モデル
 、人数制限など）】\n　可能な限りQUEST対応アバターを
 ご使用ください。　\n【参加方法】\n　　VRファシリテ
 ーション　グループ＋で行います。あらかじめグルー
 プにご参加ください。\n(14時10分以降は入室できません
 ）https://vrc.group/VRFACI.9804　　\n【備考】\n　https://twitter.c
 om/vrfacilitation
LOCATION:
END:VEVENT
END:VCALENDAR
