BEGIN:VCALENDAR
VERSION:2.0
PRODID:-//chikkutakku.com//RDFCal 1.0//EN
X-WR-CALDESC:GoogleカレンダーやiCalendar形式情報を共有シェ
 アしましょう。近所のイベントから全国のイベントま
 で今日のイベント検索やスケジュールを決めるならち
 っくたっく
X-WR-CALNAME:ちっくたっく
X-WR-TIMEZONE:UTC
BEGIN:VEVENT
SUMMARY:【LIVE】WAZAARIトライアウト(MC)
DTSTART;VALUE=DATE-TIME:20260427T070000Z
DTEND;VALUE=DATE-TIME:20260427T083000Z
UID:244477755161
DESCRIPTION:【LIVE】WAZAARIトライアウト(MC)
LOCATION:ハイジアV-1\, 日本、〒160-0021 東京都新宿区歌舞
 伎町２丁目４４−１ 東京都健康プラザハイジア b1
END:VEVENT
END:VCALENDAR
