BEGIN:VCALENDAR
VERSION:2.0
PRODID:-//chikkutakku.com//RDFCal 1.0//EN
X-WR-CALDESC:GoogleカレンダーやiCalendar形式情報を共有シェ
 アしましょう。近所のイベントから全国のイベントま
 で今日のイベント検索やスケジュールを決めるならち
 っくたっく
X-WR-CALNAME:ちっくたっく
X-WR-TIMEZONE:UTC
BEGIN:VEVENT
SUMMARY:2026年夏季班學費早鳥優惠截止日2026 Summer Term Early-
 Bird Discount Deadline
DTSTART;VALUE=DATE:20260507
DTEND;VALUE=DATE:20260508
UID:245619433979
DESCRIPTION:Save up to 10% on 2026 Summer Term Chinese Group Courses!2026 
 夏季團體班招生中，2026.05.08前報名最高可享九折優惠！(
 2026年夏季班: 2026.06.08~2026.08.23)立即報名 Sign up now:· 新生
  New Students: https://c040e.wzu.edu.tw/· 舊生 Former Students: https
 ://rb.gy/7rh3q4
LOCATION:
END:VEVENT
END:VCALENDAR
