BEGIN:VCALENDAR
VERSION:2.0
PRODID:-//chikkutakku.com//RDFCal 1.0//EN
X-WR-CALDESC:GoogleカレンダーやiCalendar形式情報を共有シェ
 アしましょう。近所のイベントから全国のイベントま
 で今日のイベント検索やスケジュールを決めるならち
 っくたっく
X-WR-CALNAME:ちっくたっく
X-WR-TIMEZONE:UTC
BEGIN:VEVENT
SUMMARY:【注】ひげを剃る。そして女子高生を拾う。 #1 
 電柱の下の女子高生 / #2 携帯 / #3 共同生活 / #4 バイト /
  #5 現実 / #6 星空 / #7 恋慕 / #8 夏祭り / #9 過去 / #10 証明
  / #11 覚悟 / #12 母親 / #13 未来
DTSTART;VALUE=DATE-TIME:20260420T020000Z
DTEND;VALUE=DATE-TIME:20260420T083000Z
UID:245893057791
DESCRIPTION: / #1 電柱の下の女子高生 / #2 携帯 / #3 共同生
 活 / #4 バイト / #5 現実 / #6 星空 / #7 恋慕 / #8 夏祭り / #9
  過去 / #10 証明 / #11 覚悟 / #12 母親 / #13 未来 / https://abem
 a.tv/channels/lovecomedy-anime/slots/AkN7a3ziFNhSQw リピート放送は 
 17:30～ https://abema.tv/channels/lovecomedy-anime/slots/EvABPLWf5qF8ZM 
 、4/21(火) 7:30～ https://abema.tv/channels/lovecomedy-anime/slots/EvAB
 QFAj4EwXRy (無料TS1週間)
LOCATION:ラブコメアニメ
END:VEVENT
END:VCALENDAR
