BEGIN:VCALENDAR
VERSION:2.0
PRODID:-//chikkutakku.com//RDFCal 1.0//EN
X-WR-CALDESC:GoogleカレンダーやiCalendar形式情報を共有シェ
 アしましょう。近所のイベントから全国のイベントま
 で今日のイベント検索やスケジュールを決めるならち
 っくたっく
X-WR-CALNAME:ちっくたっく
X-WR-TIMEZONE:UTC
BEGIN:VEVENT
SUMMARY:U14、TRM
DTSTART;VALUE=DATE:20260428
DTEND;VALUE=DATE:20260429
UID:246432582517
DESCRIPTION:13時 vs エベイユ（30分×5）\n\n※参加費2\,200円
 （全員送迎）\n\n※メンバーは決まり次第掲載します。\
 n\n※担当\n鷲塚コーチ
LOCATION:ダイセル播磨光都第１サッカー場\, 日本、〒678-1
 205 兵庫県赤穂郡上郡町光都３丁目３
END:VEVENT
END:VCALENDAR
