BEGIN:VCALENDAR
VERSION:2.0
PRODID:-//chikkutakku.com//RDFCal 1.0//EN
X-WR-CALDESC:GoogleカレンダーやiCalendar形式情報を共有シェ
 アしましょう。近所のイベントから全国のイベントま
 で今日のイベント検索やスケジュールを決めるならち
 っくたっく
X-WR-CALNAME:ちっくたっく
X-WR-TIMEZONE:UTC
BEGIN:VEVENT
SUMMARY:読楽2025年12月号
DTSTART;VALUE=DATE:20260420
DTEND;VALUE=DATE:20260421
UID:246616388399
DESCRIPTION:2026-04-21読楽2025年12月号澤田瞳子/あさのあつこ
 /山口恵以子/赤川次郎/サメマチオ/吉田篤弘/中山七里/
 小路幸也/嶋津輝/武川佑/城山　真一/夢枕獏/恩田陸徳間
 書店
LOCATION:
END:VEVENT
END:VCALENDAR
