BEGIN:VCALENDAR
VERSION:2.0
PRODID:-//chikkutakku.com//RDFCal 1.0//EN
X-WR-CALDESC:GoogleカレンダーやiCalendar形式情報を共有シェ
 アしましょう。近所のイベントから全国のイベントま
 で今日のイベント検索やスケジュールを決めるならち
 っくたっく
X-WR-CALNAME:ちっくたっく
X-WR-TIMEZONE:UTC
BEGIN:VEVENT
SUMMARY:Quarterly Social - Movie Night
DTSTART;VALUE=DATE-TIME:20260522T013000Z
DTEND;VALUE=DATE-TIME:20260522T020000Z
UID:246906917467
DESCRIPTION:The Devil WEars Prada 2\nMovie starts at 7\, walk over at 6:30
LOCATION:
END:VEVENT
END:VCALENDAR
