BEGIN:VCALENDAR
VERSION:2.0
PRODID:-//chikkutakku.com//RDFCal 1.0//EN
X-WR-CALDESC:GoogleカレンダーやiCalendar形式情報を共有シェ
 アしましょう。近所のイベントから全国のイベントま
 で今日のイベント検索やスケジュールを決めるならち
 っくたっく
X-WR-CALNAME:ちっくたっく
X-WR-TIMEZONE:UTC
BEGIN:VEVENT
SUMMARY:Girls Rugby 7s Training - Yr 6
DTSTART;VALUE=DATE-TIME:20260420T140000Z
DTEND;VALUE=DATE-TIME:20260518T140000Z
UID:246933141890
DESCRIPTION:通过 Google Meet 加入：https://meet.google.com/qhj-qbfy-m
 hz\n\n如需详细了解 Google Meet，请访问：https://support.google.
 com/a/users/answer/9282720
LOCATION:Holy Family Catholic Primary School\, 40 Isabella Dr\, Skennars H
 ead NSW 2478\, Australia
END:VEVENT
END:VCALENDAR
