BEGIN:VCALENDAR
VERSION:2.0
PRODID:-//chikkutakku.com//RDFCal 1.0//EN
X-WR-CALDESC:GoogleカレンダーやiCalendar形式情報を共有シェ
 アしましょう。近所のイベントから全国のイベントま
 で今日のイベント検索やスケジュールを決めるならち
 っくたっく
X-WR-CALNAME:ちっくたっく
X-WR-TIMEZONE:UTC
BEGIN:VEVENT
SUMMARY:M126E-1010-Lau-T4:Kyler
DTSTART;VALUE=DATE-TIME:20260423T230000Z
DTEND;VALUE=DATE-TIME:20260424T003000Z
UID:247148682383
DESCRIPTION:M126E-1010-Lau-T4:Kyler
LOCATION:
END:VEVENT
END:VCALENDAR
