BEGIN:VCALENDAR
VERSION:2.0
PRODID:-//chikkutakku.com//RDFCal 1.0//EN
X-WR-CALDESC:GoogleカレンダーやiCalendar形式情報を共有シェ
 アしましょう。近所のイベントから全国のイベントま
 で今日のイベント検索やスケジュールを決めるならち
 っくたっく
X-WR-CALNAME:ちっくたっく
X-WR-TIMEZONE:UTC
BEGIN:VEVENT
SUMMARY:ユーノ幻想歌劇ファストパーティクルショウ
DTSTART;VALUE=DATE-TIME:20260424T125500Z
DTEND;VALUE=DATE-TIME:20260424T131500Z
UID:247274180512
DESCRIPTION:【イベント主催者】\n　ユーノ281\n【イベント
 内容】\n　パーティクルライブ\n【イベントジャンル】\
 n　初心者向けイベント\, 定期イベント\n【参加条件（
 モデル、人数制限など）】\n　特になし\n【参加方法】\
 n　ユーノ281へフレンド申請後JOIN　またはグループへ\nh
 ttps://vrchat.com/home/group/grp_012e1fc6-05a1-4ffb-aea3-14f81055287b\n【
 備考】\n　パーティクルライブとはパーティクルやシェ
 ーダーを使ったパフォーマンスになります！
LOCATION:
END:VEVENT
END:VCALENDAR
