BEGIN:VCALENDAR
VERSION:2.0
PRODID:-//chikkutakku.com//RDFCal 1.0//EN
X-WR-CALDESC:GoogleカレンダーやiCalendar形式情報を共有シェ
 アしましょう。近所のイベントから全国のイベントま
 で今日のイベント検索やスケジュールを決めるならち
 っくたっく
X-WR-CALNAME:ちっくたっく
X-WR-TIMEZONE:UTC
BEGIN:VEVENT
SUMMARY:【注】銀河鉄道999 #64 沈黙の聖地 / #65 交響詩 魔
 女の竪琴 / #66 霧の葬送惑星 / #67 宇宙僧ダイルーズ / #68
  好奇心という名の星 / #69 C62の反乱 / #70 心やさしき花
 の都 / #71 賽の河原の開拓者
DTSTART;VALUE=DATE-TIME:20260424T220000Z
DTEND;VALUE=DATE-TIME:20260425T020000Z
UID:247340126207
DESCRIPTION: / #64 沈黙の聖地 / #65 交響詩 魔女の竪琴 / #66 
 霧の葬送惑星 / #67 宇宙僧ダイルーズ / #68 好奇心という
 名の星 / #69 C62の反乱 / #70 心やさしき花の都 / #71 賽の
 河原の開拓者 / https://abema.tv/channels/80s-anime-1/slots/DgUGz5ut4
 y2Hx3 リピート放送は 22:30～ https://abema.tv/channels/80s-anime-1
 /slots/Aod7HprEvcPgmD (無料TS1週間) https://prtimes.jp/main/html/rd/p/
 000003026.000064643.html
LOCATION:なつかしアニメ80's
END:VEVENT
END:VCALENDAR
