BEGIN:VCALENDAR
VERSION:2.0
PRODID:-//chikkutakku.com//RDFCal 1.0//EN
X-WR-CALDESC:GoogleカレンダーやiCalendar形式情報を共有シェ
 アしましょう。近所のイベントから全国のイベントま
 で今日のイベント検索やスケジュールを決めるならち
 っくたっく
X-WR-CALNAME:ちっくたっく
X-WR-TIMEZONE:UTC
BEGIN:VEVENT
SUMMARY:僕らはマンガを言葉にしたかった 60〜70年代マン
 ガ史私論
DTSTART;VALUE=DATE:20260519
DTEND;VALUE=DATE:20260520
UID:247457791587
DESCRIPTION:2026-05-20僕らはマンガを言葉にしたかった 60〜7
 0年代マンガ史私論夏目房之介双葉社
LOCATION:
END:VEVENT
END:VCALENDAR
