BEGIN:VCALENDAR
VERSION:2.0
PRODID:-//chikkutakku.com//RDFCal 1.0//EN
X-WR-CALDESC:GoogleカレンダーやiCalendar形式情報を共有シェ
 アしましょう。近所のイベントから全国のイベントま
 で今日のイベント検索やスケジュールを決めるならち
 っくたっく
X-WR-CALNAME:ちっくたっく
X-WR-TIMEZONE:UTC
BEGIN:VEVENT
SUMMARY:ノイズキャンセリングヘッドセット （ Switch2 ／ P
 C 用） ブラック
DTSTART;VALUE=DATE:20260429
DTEND;VALUE=DATE:20260430
UID:247923116847
DESCRIPTION:2026-04ノイズキャンセリングヘッドセット （ Sw
 itch2 ／ PC 用） ブラックタイプツー
LOCATION:
END:VEVENT
END:VCALENDAR
