BEGIN:VCALENDAR
VERSION:2.0
PRODID:-//chikkutakku.com//RDFCal 1.0//EN
X-WR-CALDESC:GoogleカレンダーやiCalendar形式情報を共有シェ
 アしましょう。近所のイベントから全国のイベントま
 で今日のイベント検索やスケジュールを決めるならち
 っくたっく
X-WR-CALNAME:ちっくたっく
X-WR-TIMEZONE:UTC
BEGIN:VEVENT
SUMMARY:占い&BAR Imum Coeli
DTSTART;VALUE=DATE-TIME:20260424T133000Z
DTEND;VALUE=DATE-TIME:20260424T150000Z
UID:248288433923
DESCRIPTION:【イベント主催者】\n　礼音のえる\n【イベン
 ト内容】\n　占い&BAR Imum CoeliはVRChatで開催している占い
 とお話を楽しむイベントです‼️\nコンセプトは“占い
 をきっかけに楽しくお話しませんか？”\n簡単な占いを
 受けに来てみませんか？\n【イベントジャンル】\n　店
 舗系イベント\n【参加条件（モデル、人数制限など）】
 \n　\n【参加方法】\n　Group+インスタンスにJOIN\n【備考
 】\n　
LOCATION:
END:VEVENT
END:VCALENDAR
