BEGIN:VCALENDAR
VERSION:2.0
PRODID:-//chikkutakku.com//RDFCal 1.0//EN
X-WR-CALDESC:GoogleカレンダーやiCalendar形式情報を共有シェ
 アしましょう。近所のイベントから全国のイベントま
 で今日のイベント検索やスケジュールを決めるならち
 っくたっく
X-WR-CALNAME:ちっくたっく
X-WR-TIMEZONE:UTC
BEGIN:VEVENT
SUMMARY:堕落論 住めば都のディストピア
DTSTART;VALUE=DATE:20260517
DTEND;VALUE=DATE:20260518
UID:248691705834
DESCRIPTION:2026-05-18堕落論 住めば都のディストピア田中慎
 弥/落合陽一徳間書店
LOCATION:
END:VEVENT
END:VCALENDAR
