BEGIN:VCALENDAR
VERSION:2.0
PRODID:-//chikkutakku.com//RDFCal 1.0//EN
X-WR-CALDESC:GoogleカレンダーやiCalendar形式情報を共有シェ
 アしましょう。近所のイベントから全国のイベントま
 で今日のイベント検索やスケジュールを決めるならち
 っくたっく
X-WR-CALNAME:ちっくたっく
X-WR-TIMEZONE:UTC
BEGIN:VEVENT
SUMMARY:Open Day - Catholic Schools Week - Mass and Tours 
DTSTART;VALUE=DATE:20260505
DTEND;VALUE=DATE:20260506
UID:248872066458
DESCRIPTION:\nSt Raphael's Catholic School's Annual Open Day will be held 
 on Wednesday 6th May and will include a community Mass at 10am\, followed 
 by morning tea. Student led tours will then commence at 11am and run on th
 e half hour.  Families are welcome to meet with Principal Michelle Descha
 mps\, and Assistant Principal David Wickham after their tours for any ques
 tions or further discussions.\n\nFamilies are invited to attend any\, or a
 ll of the activities on offer and RSVPs to the school are preferred. Enro
 lment Packs are available from the school at any time.
LOCATION:
END:VEVENT
END:VCALENDAR
