BEGIN:VCALENDAR
VERSION:2.0
PRODID:-//chikkutakku.com//RDFCal 1.0//EN
X-WR-CALDESC:GoogleカレンダーやiCalendar形式情報を共有シェ
 アしましょう。近所のイベントから全国のイベントま
 で今日のイベント検索やスケジュールを決めるならち
 っくたっく
X-WR-CALNAME:ちっくたっく
X-WR-TIMEZONE:UTC
BEGIN:VEVENT
SUMMARY:【注】REBORN! #155 真(リアル)6弔花 / #156 心強い仲間
  / #157 並盛の休日 / #158 あたたかい場所 / #159 仲間のた
 めに / #160 機動力を手に入れろ / #161 エアーバイク / #162
  大空のボンゴレ匣(ボックス)
DTSTART;VALUE=DATE-TIME:20260419T200000Z
DTEND;VALUE=DATE-TIME:20260420T000000Z
UID:248990509684
DESCRIPTION: / #155 真(リアル)6弔花 / #156 心強い仲間 / #157 
 並盛の休日 / #158 あたたかい場所 / #159 仲間のために / #
 160 機動力を手に入れろ / #161 エアーバイク / #162 大空の
 ボンゴレ匣(ボックス) / https://abema.tv/channels/00s-anime-1/slot
 s/Ah77mj3GH5y8dV リピート放送は 9:00～ https://abema.tv/channels/0
 0s-anime-1/slots/EvABP2cUN7duQT 、18:00～ https://abema.tv/channels/00s-
 anime-1/slots/EvABPLTnFx66zj (無料TS1週間) https://prtimes.jp/main/htm
 l/rd/p/000002968.000064643.html
LOCATION:なつかしアニメ00's
END:VEVENT
END:VCALENDAR
