BEGIN:VCALENDAR
VERSION:2.0
PRODID:-//chikkutakku.com//RDFCal 1.0//EN
X-WR-CALDESC:GoogleカレンダーやiCalendar形式情報を共有シェ
 アしましょう。近所のイベントから全国のイベントま
 で今日のイベント検索やスケジュールを決めるならち
 っくたっく
X-WR-CALNAME:ちっくたっく
X-WR-TIMEZONE:UTC
BEGIN:VEVENT
SUMMARY:Breana and Harry | Wedding | 23 May 2026
DTSTART;VALUE=DATE-TIME:20260522T140000Z
DTEND;VALUE=DATE-TIME:20260523T140000Z
UID:249512857446
DESCRIPTION:Client Name: Breana Fowler\nClient Email: Breana.fowler03@gmai
 l.com\nClient Phone: +61 414 829 224\nClient Address:   Heatherbrae Nsw 23
 24\nLocation Name: Hunter Botanical Gardens\nInvoice Link: https://hello.d
 ubsado.com/public/invoices/69bcab9623a8d3f2dbbf2351
LOCATION:Hunter Botanical Gardens\, 2100 Pacific Hwy\, Heatherbrae NSW 232
 4
END:VEVENT
END:VCALENDAR
