BEGIN:VCALENDAR
VERSION:2.0
PRODID:-//chikkutakku.com//RDFCal 1.0//EN
X-WR-CALDESC:GoogleカレンダーやiCalendar形式情報を共有シェ
 アしましょう。近所のイベントから全国のイベントま
 で今日のイベント検索やスケジュールを決めるならち
 っくたっく
X-WR-CALNAME:ちっくたっく
X-WR-TIMEZONE:UTC
BEGIN:VEVENT
SUMMARY:友達のトモダチがやってるメイドカフェ【Milmiel
 】
DTSTART;VALUE=DATE-TIME:20260421T130000Z
DTEND;VALUE=DATE-TIME:20260421T140000Z
UID:249562863643
DESCRIPTION:【イベント主催者】\n　S1R0chan mizuhigh\n【イベ
 ント内容】\n　˖°ʚɞ°˖噂のメイドカフェ実は 友達の
 ﾄﾓﾀﾞﾁがやっています˖°ʚɞ°˖\n\nあなたのご来店
 をお待ちしております ˚․∗\n【イベントジャンル】\n
 　店舗系イベント\, 初心者向けイベント\, 定期イベン
 ト\n【参加条件（モデル、人数制限など）】\n　お越し
 の際にはアバターの容量を50MB以下に下げる等の最適化
 をお願いいたします。\n全てのお客様が快適にイベント
 を楽しめるよう配慮いただけますと幸いです。\n【参加
 方法】\n　①『mizuhigh』https://qr.paps.jp/kba0Z へフレンド申
 請\n②22:00に【１回だけ】リクエストインバイトを送る\
 n③「招待」（Invite）が届いたらステータスを青以外に
 変更し、速やかに入場する\n④お連れ様（フレンド）を
 1名お呼びできますのでお連れ様がいらっしゃる場合は
 入口のスタッフにVRC名をフルネームでお知らせくださ
 い\n\n※お連れ様をお呼びする際は名前に飾り文字（_や
 *など）の有無、英数字、平仮名、漢字であるかについ
 ても教えて頂けますと非常に助かります\n【備考】\n　
 アカウント：https://x.com/Milmiel_vrc\nハッシュタグ：＃Milmi
 el\n主催：https://x.com/S1R0chan_vrc https://x.com/mizuhigh\n\n毎回
 招待チケットが当たるRPキャンペーンを行ってます！\n
 お見逃しなく！
LOCATION:
END:VEVENT
END:VCALENDAR
