BEGIN:VCALENDAR
VERSION:2.0
PRODID:-//chikkutakku.com//RDFCal 1.0//EN
X-WR-CALDESC:GoogleカレンダーやiCalendar形式情報を共有シェ
 アしましょう。近所のイベントから全国のイベントま
 で今日のイベント検索やスケジュールを決めるならち
 っくたっく
X-WR-CALNAME:ちっくたっく
X-WR-TIMEZONE:UTC
BEGIN:VEVENT
SUMMARY:Shrink〜精神科医ヨワイ〜 18
DTSTART;VALUE=DATE:20260518
DTEND;VALUE=DATE:20260519
UID:249653795412
DESCRIPTION:2026-05-19Shrink〜精神科医ヨワイ〜 18月子/七海 
 仁集英社
LOCATION:
END:VEVENT
END:VCALENDAR
