BEGIN:VCALENDAR
VERSION:2.0
PRODID:-//chikkutakku.com//RDFCal 1.0//EN
X-WR-CALDESC:GoogleカレンダーやiCalendar形式情報を共有シェ
 アしましょう。近所のイベントから全国のイベントま
 で今日のイベント検索やスケジュールを決めるならち
 っくたっく
X-WR-CALNAME:ちっくたっく
X-WR-TIMEZONE:UTC
BEGIN:VEVENT
SUMMARY:なっちゃんとお面の子
DTSTART;VALUE=DATE:20260520
DTEND;VALUE=DATE:20260521
UID:249683642206
DESCRIPTION:2026-05-21なっちゃんとお面の子コナツ マキコ/
 寺田 マユミニジノ絵本屋
LOCATION:
END:VEVENT
END:VCALENDAR
