BEGIN:VCALENDAR
VERSION:2.0
PRODID:-//chikkutakku.com//RDFCal 1.0//EN
X-WR-CALDESC:GoogleカレンダーやiCalendar形式情報を共有シェ
 アしましょう。近所のイベントから全国のイベントま
 で今日のイベント検索やスケジュールを決めるならち
 っくたっく
X-WR-CALNAME:ちっくたっく
X-WR-TIMEZONE:UTC
BEGIN:VEVENT
SUMMARY:いのちの食べ方8
DTSTART;VALUE=DATE:20260524
DTEND;VALUE=DATE:20260525
UID:250982846846
DESCRIPTION:2026-05-25いのちの食べ方8Eve/十文字 青/lack/まり
 やす/WabokuKADOKAWA
LOCATION:
END:VEVENT
END:VCALENDAR
