BEGIN:VCALENDAR
VERSION:2.0
PRODID:-//chikkutakku.com//RDFCal 1.0//EN
X-WR-CALDESC:GoogleカレンダーやiCalendar形式情報を共有シェ
 アしましょう。近所のイベントから全国のイベントま
 で今日のイベント検索やスケジュールを決めるならち
 っくたっく
X-WR-CALNAME:ちっくたっく
X-WR-TIMEZONE:UTC
BEGIN:VEVENT
SUMMARY:異世界図書館RPイベント『Library Of Akashic』（初見
 、見学歓迎）
DTSTART;VALUE=DATE-TIME:20260421T130000Z
DTEND;VALUE=DATE-TIME:20260421T140000Z
UID:251055407118
DESCRIPTION:【イベント主催者】\n　Tenku_Event\n【イベント
 内容】\n　異世界に存在する図書館、Akashicの通常イベ
 ントです。参加者はAkashicの職員が普段過ごしている図
 書館に訪れることになります。（参加者側のRPは必須で
 はなく、非RPの方のご参加も歓迎しております。職員と
 の会話や職員同士の会話を楽しむイベントになります
 。特殊なイベントが発生することも…？詳細はX「@LoA_VR
 C」をご確認ください。）\n【イベントジャンル】\n　ロ
 ールプレイ\n【参加条件（モデル、人数制限など）】\n
 　イベント入口に設置された注意事項をよくご確認の
 上、ご参加ください。\n【参加方法】\n　フレンドオン
 リーで開催しますので、事前に「Tenku_Event」へフレンド
 申請の上、開始時間にJOINしてください。\n【備考】\n　
LOCATION:
END:VEVENT
END:VCALENDAR
