BEGIN:VCALENDAR
VERSION:2.0
PRODID:-//chikkutakku.com//RDFCal 1.0//EN
X-WR-CALDESC:GoogleカレンダーやiCalendar形式情報を共有シェ
 アしましょう。近所のイベントから全国のイベントま
 で今日のイベント検索やスケジュールを決めるならち
 っくたっく
X-WR-CALNAME:ちっくたっく
X-WR-TIMEZONE:UTC
BEGIN:VEVENT
SUMMARY:ワールド周遊型RPイベント「VLEFARO」
DTSTART;VALUE=DATE-TIME:20260506T131500Z
DTEND;VALUE=DATE-TIME:20260506T143000Z
UID:251455509378
DESCRIPTION:【イベント主催者】\n　_鳩係01\n【イベント内
 容】\n　仮想欧州の古都、ロズリク市にかつて存在した
 「ヴレファロ大修道院」。\n今回、仮想空間上にて「ヴ
 レファロ大修道院」を再現し、来場者に公開する"没入
 型"特別展示「VLEFARO」を開催します。\n皆様は”旅人"と
 して、ヴレファロ大修道院にてひとときをお過ごしい
 ただけます。当日は担当の修道士/修道女が、皆様に院
 内を案内いたします。\n皆様のご参加をお待ちしており
 ます。\n【イベントジャンル】\n　ロールプレイ\, 定期
 イベント\n【参加条件（モデル、人数制限など）】\n　
 キャラクターとの混同を避けるため、修道服に該当す
 る装いでのご来場はご遠慮ください。また、他の来場
 者の体験を阻害するようなアバターのご使用はお控え
 いただけますと幸いです。\n【参加方法】\n　22:15に「_
 鳩係01」にリクエストインバイト(招待をリクエスト)を
 「1回」送信。当選の場合、インバイトが送信されます
 。\n※リクイン回数は必ず「1回」のみとしていただき
 ますよう、お願い申し上げます。\n【備考】\n　当イベ
 ントはロールプレイを主体としたイベントですが、来
 場者の方のロールプレイは「任意」となっております
 。また、無言勢の方も歓迎しております。皆様のご参
 加をお待ちしております。その他、詳細は公式X (@Vlefaro
 VRC) をご確認ください。
LOCATION:
END:VEVENT
END:VCALENDAR
