BEGIN:VCALENDAR
VERSION:2.0
PRODID:-//chikkutakku.com//RDFCal 1.0//EN
X-WR-CALDESC:GoogleカレンダーやiCalendar形式情報を共有シェ
 アしましょう。近所のイベントから全国のイベントま
 で今日のイベント検索やスケジュールを決めるならち
 っくたっく
X-WR-CALNAME:ちっくたっく
X-WR-TIMEZONE:UTC
BEGIN:VEVENT
SUMMARY:Midnight Bar Cosmos
DTSTART;VALUE=DATE-TIME:20260422T140000Z
DTEND;VALUE=DATE-TIME:20260422T145900Z
UID:251464255362
DESCRIPTION:【イベント主催者】\n　ツユツバメ\n【イベン
 ト内容】\n　Barに憧れるけど敷居が高い、そもそもお酒
 が飲めない、そんなあなたのためにあるBarです。　一
 週間の折り返しに、少しだけ大人な雰囲気に酔いしれ
 に来ませんか?\n【イベントジャンル】\n　VR飲み会\, 店
 舗系イベント\n【参加条件（モデル、人数制限など）】
 \n　良識の範囲内であれば制限事項はありません。他の
 お客様のご迷惑にならないようお願い致します。行き
 過ぎた場合は警告の上退店いただく可能性がございま
 す。\n※お酒は二十歳を過ぎてから。\n【参加方法】\n
 　Midnight Bar Cosmos グループインスタンスにて開催\n【備
 考】\n　グループ参加はこちら→https://vrc.group/COSMOS.7512\
 nhttps://x.com/bar_cosmos_vrc/status/2045656120380039659\nお写真は是
 非 #MidnightBarCosmos まで。
LOCATION:
END:VEVENT
END:VCALENDAR
