BEGIN:VCALENDAR
VERSION:2.0
PRODID:-//chikkutakku.com//RDFCal 1.0//EN
X-WR-CALDESC:GoogleカレンダーやiCalendar形式情報を共有シェ
 アしましょう。近所のイベントから全国のイベントま
 で今日のイベント検索やスケジュールを決めるならち
 っくたっく
X-WR-CALNAME:ちっくたっく
X-WR-TIMEZONE:UTC
BEGIN:VEVENT
SUMMARY:【Android 対応】【Android 対応】TVっ子集合！VISON 第
 2枠の時間だよ〜【DJ EVENT】
DTSTART;VALUE=DATE-TIME:20260422T120000Z
DTEND;VALUE=DATE-TIME:20260422T140000Z
UID:252090479986
DESCRIPTION:【イベント主催者】\n　Toush / TOROTAMA\n【イベン
 ト内容】\n　バラエティ\,ドラマ\,アニメ\,CMソング\,そ
 の他TVで放映された番組の原曲が流れるDJイベントです
 。\nおしゃべりOK、曲に合わせて歌ったり踊ってもOKな
 イベントです\nあなたが見ていたTV番組の曲が流れるか
 も！！\n【イベントジャンル】\n　その他交流会\, 音楽
 系イベント\, 初心者向けイベント\n【参加条件（モデル
 、人数制限など）】\n　禁止事項、推奨事項を守れる方
 （グループ概要のルールに書いてあります）\n【参加方
 法】\n　Group+にて開催。グループ『LIVE HOUSE IX-XI』(IXXI.24
 57)へ参加いただくか、\n主催のToushへフレンド申請いた
 だくとスムーズにイベント参加できます。\n【備考】\n
 　主催プロフィール（Toush）\nhttps://vrchat.com/home/user/usr_d
 df5c013-1351-491e-b441-97e9ec0ef6d1\n開催グループ\nhttps://vrchat.co
 m/home/group/grp_cd8610d5-efbd-481a-86e9-f5c356fa43e5 \n
LOCATION:
END:VEVENT
END:VCALENDAR
