BEGIN:VCALENDAR
VERSION:2.0
PRODID:-//chikkutakku.com//RDFCal 1.0//EN
X-WR-CALDESC:GoogleカレンダーやiCalendar形式情報を共有シェ
 アしましょう。近所のイベントから全国のイベントま
 で今日のイベント検索やスケジュールを決めるならち
 っくたっく
X-WR-CALNAME:ちっくたっく
X-WR-TIMEZONE:UTC
BEGIN:VEVENT
SUMMARY:【第三十二回】BL愛好者交流イベント『花束を君
 に』一周年記念回
DTSTART;VALUE=DATE-TIME:20260428T120000Z
DTEND;VALUE=DATE-TIME:20260428T143000Z
UID:252749454924
DESCRIPTION:【イベント主催者】\n　はなもり(ada)\n【イベ
 ント内容】\n　今回は一周年記念回ということで、参加
 者の方々と賑やかに楽しめる場所に行こうと思います
 。\n\n【イベントジャンル】\n　改変アバター交流会\, 
 その他交流会\, ロールプレイ\, 初心者向けイベント\, 
 定期イベント\n【参加条件（モデル、人数制限など）】
 \n　楽しい時間になるようにマナーを守り、他の方に迷
 惑をかけないようお願いします。\nナンパ、客引き、過
 度の飲酒、ハラスメント、暴言、許可なく触れるなど
 の不適切な行為があった場合はその場で退室、グルー
 プを退会していただきます。\nNSFW、録画、録音、他の
 方に過度な負担がかかるパーティクルやエフェクト、
 ダウンロードサイズ50MB以上のアバター使用はご遠慮く
 ださい。\nグループ参加者は女性限定です。\n男性アバ
 ターや男性ボイチェンは使用可です。\n参加者同士の揉
 め事には一切責任を負いません。\n両者退会いただく場
 合もございます。\n途中参加、退室可能です。\n安心し
 て参加いただける楽しい会にしていきたいと思ってい
 るのでご協力お願いします。\n\n\nPlease follow manners to ensu
 re a fun time and avoid disturbing others. Inappropriate behaviors like pi
 ckup attempts\, soliciting\, excessive drinking\, harassment\, verbal abus
 e\, or touching without consent will result in immediate removal and expul
 sion from the group. NSFW content is prohibited. Refrain from recording\, 
 using heavy particles/effects\, or avatars over 40MB. The group is limited
  to Japanese-speaking women\, but male avatars or voice changers are allow
 ed. We are not responsible for disputes between participants\, and both pa
 rties may be asked to leave. Joining or leaving midway is permitted. Let
 ’s make this a safe and enjoyable gathering with your cooperation.\n\n\n
 \n【参加方法】\n　『花束を君に』グループに登録後、
 当日グループインスタンスにjoin\n\nhttps://vrchat.com/home/gro
 up/grp_acd9b876-688d-4662-bf03-e0d6f730783d\n【備考】\n　
LOCATION:
END:VEVENT
END:VCALENDAR
