BEGIN:VCALENDAR
VERSION:2.0
PRODID:-//chikkutakku.com//RDFCal 1.0//EN
X-WR-CALDESC:GoogleカレンダーやiCalendar形式情報を共有シェ
 アしましょう。近所のイベントから全国のイベントま
 で今日のイベント検索やスケジュールを決めるならち
 っくたっく
X-WR-CALNAME:ちっくたっく
X-WR-TIMEZONE:UTC
BEGIN:VEVENT
SUMMARY:神風連とその時代
DTSTART;VALUE=DATE:20260521
DTEND;VALUE=DATE:20260522
UID:253616213514
DESCRIPTION:2026-05-22神風連とその時代渡辺京二中央公論新
 社
LOCATION:
END:VEVENT
END:VCALENDAR
