BEGIN:VCALENDAR
VERSION:2.0
PRODID:-//chikkutakku.com//RDFCal 1.0//EN
X-WR-CALDESC:GoogleカレンダーやiCalendar形式情報を共有シェ
 アしましょう。近所のイベントから全国のイベントま
 で今日のイベント検索やスケジュールを決めるならち
 っくたっく
X-WR-CALNAME:ちっくたっく
X-WR-TIMEZONE:UTC
BEGIN:VEVENT
SUMMARY:【Android 対応】ネオン倶楽部VuG (ラジオ)
DTSTART;VALUE=DATE-TIME:20260421T120000Z
DTEND;VALUE=DATE-TIME:20260421T140000Z
UID:254024945037
DESCRIPTION:【イベント主催者】\n　トウヤン 1224\n【イベ
 ント内容】\n　本日は第3回VuGラジオでーす！\n当日でも
 質問は募集してますのでどしどし送ってください！\n【
 イベントジャンル】\n　店舗系イベント\, 初心者向けイ
 ベント\, 定期イベント\n【参加条件（モデル、人数制限
 など）】\n　アバター重くなく動画を撮るので映ってし
 まってもいい方！\n【参加方法】\n　グループに参加！\
 nhttps://vrc.group/VUG.1233\n【備考】\n　
LOCATION:
END:VEVENT
END:VCALENDAR
