BEGIN:VCALENDAR
VERSION:2.0
PRODID:-//chikkutakku.com//RDFCal 1.0//EN
X-WR-CALDESC:GoogleカレンダーやiCalendar形式情報を共有シェ
 アしましょう。近所のイベントから全国のイベントま
 で今日のイベント検索やスケジュールを決めるならち
 っくたっく
X-WR-CALNAME:ちっくたっく
X-WR-TIMEZONE:UTC
BEGIN:VEVENT
SUMMARY:Knights of Columbus Officer Meeting (SHC )
DTSTART;VALUE=DATE-TIME:20260512T000000Z
DTEND;VALUE=DATE-TIME:20260512T020000Z
UID:254138766224
DESCRIPTION:Knights of Columbus Officer Meeting (SHC )
LOCATION:Sacred Heart Center 
END:VEVENT
END:VCALENDAR
