BEGIN:VCALENDAR
VERSION:2.0
PRODID:-//chikkutakku.com//RDFCal 1.0//EN
X-WR-CALDESC:GoogleカレンダーやiCalendar形式情報を共有シェ
 アしましょう。近所のイベントから全国のイベントま
 で今日のイベント検索やスケジュールを決めるならち
 っくたっく
X-WR-CALNAME:ちっくたっく
X-WR-TIMEZONE:UTC
BEGIN:VEVENT
SUMMARY:【注】デブとラブと過ちと！ #1 ポジティブシン
 キング!! / #2 公園の彼と副社長 / #3 昔の姿 / #4 チャーム
 ポイント / #5 悪い子なんていない / #6 夢子の母と交友
 関係 / #7 世界に一つだけの…… / #8 優しさは風邪とと
 もに / #9 彼の好きな人？ / #10 死にたがりの南 / #11 喜び
 と不安のBBQ / #12 あなたが笑うと幸せ
DTSTART;VALUE=DATE-TIME:20260423T230000Z
DTEND;VALUE=DATE-TIME:20260424T050000Z
UID:254323212111
DESCRIPTION: / #1 ポジティブシンキング!! / #2 公園の彼と副
 社長 / #3 昔の姿 / #4 チャームポイント / #5 悪い子なん
 ていない / #6 夢子の母と交友関係 / #7 世界に一つだけ
 の…… / #8 優しさは風邪とともに / #9 彼の好きな人？ /
  #10 死にたがりの南 / #11 喜びと不安のBBQ / #12 あなたが
 笑うと幸せ / https://abema.tv/channels/lovecomedy-anime/slots/AkN7WQS
 G457Qo9 リピート放送は 14:00～ https://abema.tv/channels/lovecomed
 y-anime/slots/AkN7Z8kM1NffgK (無料TS1週間)
LOCATION:ラブコメアニメ
END:VEVENT
END:VCALENDAR
