BEGIN:VCALENDAR
VERSION:2.0
PRODID:-//chikkutakku.com//RDFCal 1.0//EN
X-WR-CALDESC:GoogleカレンダーやiCalendar形式情報を共有シェ
 アしましょう。近所のイベントから全国のイベントま
 で今日のイベント検索やスケジュールを決めるならち
 っくたっく
X-WR-CALNAME:ちっくたっく
X-WR-TIMEZONE:UTC
BEGIN:VEVENT
SUMMARY:【Android 対応】【アッアラララアァ】 #VRC_SOCru集
 会
DTSTART;VALUE=DATE-TIME:20260428T140000Z
DTEND;VALUE=DATE-TIME:20260428T145000Z
UID:254513490103
DESCRIPTION:【イベント主催者】\n　タケダ・ナナセ\n【イ
 ベント内容】\n　未だ全然交わる事が無い多くの接点気
 にしないで\nきっとまた笑顔で逢えるだろう。\n【イベ
 ントジャンル】\n　音楽系イベント\n【参加条件（モデ
 ル、人数制限など）】\n　ダブルキャップの似合うメイ
 ンMC、ヒューマンビートボックスの板前、バッキバキの
 トラックマスター、TV観て家でボーッとしてるだけのBab
 y、露出度高めのナリしてるコ、交通整備の人形、戦隊
 物の追加戦士、S.O.cru\n【参加方法】\n　時間になったら
 グループインスタンスが立ってると思います。\n【備考
 】\n　わかってんじゃないAh
LOCATION:
END:VEVENT
END:VCALENDAR
