BEGIN:VCALENDAR
VERSION:2.0
PRODID:-//chikkutakku.com//RDFCal 1.0//EN
X-WR-CALDESC:GoogleカレンダーやiCalendar形式情報を共有シェ
 アしましょう。近所のイベントから全国のイベントま
 で今日のイベント検索やスケジュールを決めるならち
 っくたっく
X-WR-CALNAME:ちっくたっく
X-WR-TIMEZONE:UTC
BEGIN:VEVENT
SUMMARY:Beehive visit
DTSTART;VALUE=DATE:20260512
DTEND;VALUE=DATE:20260513
UID:254527861451
DESCRIPTION:Where:- E.H. Thorne (Beehives) Ltd\, Beehive Business Park\, 
 Rand\, Market Rasen LN8 5NJContact:- Laurie Povey  laurie.povey@gmail.co
 m When:- Wed 13th May. Arrive at 11.00am ready for the factory tour. Lunc
 h will be at 1.00pm.The Beehive Business Park is at Rand (LN8 5NJ) andeasi
 ly accessible from either the A158 or the B1399.The tour is FOC but we are
  expected to purchase lunchfrom them\, which must be pre-ordered. If you 
 would like to book please contact Laurie laurie.povey@gmail.com with your 
 foodorders by Friday May 8th. For the menu\, see the website www.thorne.co
 .uk  Goto ‘About us’\, scroll down to Lincolnshire Head Office &amp\;
  Factory and ‘Findout more’. The lunch menu can be found at the bottom
  of the page.As well as the menu on the website there will bechicken or st
 eak pies with veg for £9.Please let Laurie know of any vegetarians or tho
 se withother dietary needs.
LOCATION:E.H. Thorne (Beehives) Ltd\, Beehive Business Park\, Rand\, Marke
 t Rasen LN8 5NJ
END:VEVENT
END:VCALENDAR
